BEGIN:VCALENDAR
VERSION:2.0
PRODID:-//Svenska kendoförbundet - ECPv6.15.17.1//NONSGML v1.0//EN
CALSCALE:GREGORIAN
METHOD:PUBLISH
X-ORIGINAL-URL:https://www.kendoforbundet.se
X-WR-CALDESC:Händelser för Svenska kendoförbundet
REFRESH-INTERVAL;VALUE=DURATION:PT1H
X-Robots-Tag:noindex
X-PUBLISHED-TTL:PT1H
BEGIN:VTIMEZONE
TZID:Europe/Stockholm
BEGIN:DAYLIGHT
TZOFFSETFROM:+0100
TZOFFSETTO:+0200
TZNAME:CEST
DTSTART:20250330T010000
END:DAYLIGHT
BEGIN:STANDARD
TZOFFSETFROM:+0200
TZOFFSETTO:+0100
TZNAME:CET
DTSTART:20251026T010000
END:STANDARD
BEGIN:DAYLIGHT
TZOFFSETFROM:+0100
TZOFFSETTO:+0200
TZNAME:CEST
DTSTART:20260329T010000
END:DAYLIGHT
BEGIN:STANDARD
TZOFFSETFROM:+0200
TZOFFSETTO:+0100
TZNAME:CET
DTSTART:20261025T010000
END:STANDARD
BEGIN:DAYLIGHT
TZOFFSETFROM:+0100
TZOFFSETTO:+0200
TZNAME:CEST
DTSTART:20270328T010000
END:DAYLIGHT
BEGIN:STANDARD
TZOFFSETFROM:+0200
TZOFFSETTO:+0100
TZNAME:CET
DTSTART:20271031T010000
END:STANDARD
BEGIN:DAYLIGHT
TZOFFSETFROM:+0100
TZOFFSETTO:+0200
TZNAME:CEST
DTSTART:20280326T010000
END:DAYLIGHT
BEGIN:STANDARD
TZOFFSETFROM:+0200
TZOFFSETTO:+0100
TZNAME:CET
DTSTART:20281029T010000
END:STANDARD
BEGIN:DAYLIGHT
TZOFFSETFROM:+0100
TZOFFSETTO:+0200
TZNAME:CEST
DTSTART:20290325T010000
END:DAYLIGHT
BEGIN:STANDARD
TZOFFSETFROM:+0200
TZOFFSETTO:+0100
TZNAME:CET
DTSTART:20291028T010000
END:STANDARD
END:VTIMEZONE
BEGIN:VEVENT
DTSTART;VALUE=DATE:20260502
DTEND;VALUE=DATE:20260504
DTSTAMP:20260425T161254
CREATED:20260316T095148Z
LAST-MODIFIED:20260317T084811Z
UID:11600-1777680000-1777852799@www.kendoforbundet.se
SUMMARY:Tendo-ryu seminarium
DESCRIPTION:Instruktör: Jakob Ryngen.
URL:https://www.kendoforbundet.se/event/tendo-ryu-seminarium/
LOCATION:Tallinn\, Tallinn\, Estonia
CATEGORIES:naginata
ATTACH;FMTTYPE=image/jpeg:https://www.kendoforbundet.se/wp-content/uploads/2026/03/2026-01-05_171424.jpg
ORGANIZER;CN="Estonian Naginata Federation":MAILTO:naginata@naginata.ee
END:VEVENT
BEGIN:VEVENT
DTSTART;VALUE=DATE:20260509
DTEND;VALUE=DATE:20260510
DTSTAMP:20260425T161254
CREATED:20260316T095328Z
LAST-MODIFIED:20260316T095328Z
UID:11605-1778284800-1778371199@www.kendoforbundet.se
SUMMARY:Tendo-ryu seminarium
DESCRIPTION:Instruktör: Jakob Ryngen. FSKA. Nivå: Shudan – Chodan. Kontakt: naginata@fska.se
URL:https://www.kendoforbundet.se/event/tendo-ryu-seminarium-2/
LOCATION:Lilla Alby skola\, Humblegatan 19-21\, Sundbyberg\, 17239\, Sverige
CATEGORIES:naginata
ATTACH;FMTTYPE=image/jpeg:https://www.kendoforbundet.se/wp-content/uploads/2026/03/20220613_181142-kopiera-scaled.jpg
END:VEVENT
BEGIN:VEVENT
DTSTART;VALUE=DATE:20260512
DTEND;VALUE=DATE:20260518
DTSTAMP:20260425T161254
CREATED:20260316T095546Z
LAST-MODIFIED:20260316T095546Z
UID:11607-1778544000-1779062399@www.kendoforbundet.se
SUMMARY:Tendo-ryu seminarium
DESCRIPTION:Instruktörer: Eric Montes\, Antoine Fromentin. Bitokukai. Kontakt: exbrayatd@yahoo.fr
URL:https://www.kendoforbundet.se/event/tendo-ryu-seminarium-3/
LOCATION:Serquigny\, Serquigny\, France
CATEGORIES:naginata
ATTACH;FMTTYPE=image/jpeg:https://www.kendoforbundet.se/wp-content/uploads/2026/03/c5cb26_b57f2f8800e044cb8b8c5af6d7411ebb.jpg
END:VEVENT
BEGIN:VEVENT
DTSTART;TZID=Europe/Stockholm:20260512T193000
DTEND;TZID=Europe/Stockholm:20260512T213000
DTSTAMP:20260425T161254
CREATED:20260331T194213Z
LAST-MODIFIED:20260419T115631Z
UID:11654-1778614200-1778621400@www.kendoforbundet.se
SUMMARY:Styrelsemöte
DESCRIPTION:Styrelsemöte på distans. \nEv motioner bör inkomma i god tid innan mötet.
URL:https://www.kendoforbundet.se/event/styrelsemote-202605/
CATEGORIES:styrelsemöten
ATTACH;FMTTYPE=image/jpeg:https://www.kendoforbundet.se/wp-content/uploads/2022/08/ordfklubba-e1660731519104.jpg
END:VEVENT
BEGIN:VEVENT
DTSTART;VALUE=DATE:20260516
DTEND;VALUE=DATE:20260518
DTSTAMP:20260425T161254
CREATED:20260310T100704Z
LAST-MODIFIED:20260310T123653Z
UID:11592-1778889600-1779062399@www.kendoforbundet.se
SUMMARY:Kendo-SM 2026
DESCRIPTION:2026 års upplaga av kendo-SM äger rum i Luleå 16-17 maj. \nDet kommer att vara tävlingar i fyra klasser: dam individuellt\, herr individuellt\, junior individuellt samt en lagklass. Det anordnas ingen gradering i anslutning till mästerskapet. \nFör mer information och anmälning\, se hemsidan. \nVälkomna!
URL:https://www.kendoforbundet.se/event/kendo-sm-2026/
LOCATION:Hälsans hus\, Repslagargatan 2\, Luleå\, 92739\, Sweden
CATEGORIES:kendo
ATTACH;FMTTYPE=image/jpeg:https://www.kendoforbundet.se/wp-content/uploads/2025/05/496800167_122128808624732942_2850342518539542460_n.jpg
END:VEVENT
BEGIN:VEVENT
DTSTART;TZID=Europe/Stockholm:20260523T110000
DTEND;TZID=Europe/Stockholm:20260523T180000
DTSTAMP:20260425T161254
CREATED:20260201T164702Z
LAST-MODIFIED:20260201T164729Z
UID:11489-1779534000-1779559200@www.kendoforbundet.se
SUMMARY:Kyudo: Kyugradering och Svenska Cupen deltävling 2
DESCRIPTION:Kyudo: Inbjudan till Kyugradering och Svenska Cupen deltävling 2
URL:https://www.kendoforbundet.se/event/kyudo-kyugradering-och-svenska-cupen-deltavling-2-3/
LOCATION:Gamlishallen\, Uppsala
CATEGORIES:1kyu-gradering,kyudo
ATTACH;FMTTYPE=image/jpeg:https://www.kendoforbundet.se/wp-content/uploads/2025/12/IMG_20251129_084306_edit_960708106349715-scaled-e1769964204207.jpg
END:VEVENT
BEGIN:VEVENT
DTSTART;VALUE=DATE:20260530
DTEND;VALUE=DATE:20260601
DTSTAMP:20260425T161254
CREATED:20250923T151855Z
LAST-MODIFIED:20251014T201402Z
UID:10847-1780099200-1780271999@www.kendoforbundet.se
SUMMARY:Iaido SM 2026
DESCRIPTION:Iaido-SM 2026 kommer att arrangeras! \nMer info kommer! \n 
URL:https://www.kendoforbundet.se/event/iaido-sm-2026/
LOCATION:Lundbystrandshallen\, Anders Carlssons gata 10\, Göteborg\, 41755\, Sverige
CATEGORIES:dan-gradering,iaido
ATTACH;FMTTYPE=image/jpeg:https://www.kendoforbundet.se/wp-content/uploads/2023/06/Iaido-SM_009-scaled.jpg
ORGANIZER;CN="G%C3%B6teborgs budos%C3%A4llskap Shobukan":MAILTO:shobukan.gbg@gmail.com
END:VEVENT
BEGIN:VEVENT
DTSTART;VALUE=DATE:20260619
DTEND;VALUE=DATE:20260622
DTSTAMP:20260425T161254
CREATED:20260220T092109Z
LAST-MODIFIED:20260220T092109Z
UID:11557-1781827200-1782086399@www.kendoforbundet.se
SUMMARY:34th EKC (kendo-EM)
DESCRIPTION:De 34e europeiska mästerskapen hålls i Podgorica\, Montenegro den 19-21 juni 2026. \nAnmälning till gradering vid kendo-EM görs i vanlig ordning via formuläret Anmälan till dan-gradering. \nFör övrig anmälan\, kontakta landslagsmanager och/eller registeransvarig.
URL:https://www.kendoforbundet.se/event/34th-ekc-kendo-em/
LOCATION:Morača Sports Hall\, bb Ivana Milutinovića\, Podgorica\, 810000\, Montenegro
CATEGORIES:dan-gradering,kendo,Mästerskap och förbundsseminarier
ATTACH;FMTTYPE=image/png:https://www.kendoforbundet.se/wp-content/uploads/2026/02/ekc2026.png
END:VEVENT
BEGIN:VEVENT
DTSTART;VALUE=DATE:20260626
DTEND;VALUE=DATE:20260708
DTSTAMP:20260425T161254
CREATED:20260316T095730Z
LAST-MODIFIED:20260316T095730Z
UID:11611-1782432000-1783468799@www.kendoforbundet.se
SUMMARY:Tendo-ryu seminarium
DESCRIPTION:Instruktör: Ikoku Urabe. Bitokukai. Kontakt: bitokukai.ms@gmail.com
URL:https://www.kendoforbundet.se/event/tendo-ryu-seminarium-4/
LOCATION:Stanstead\, Stanstead\, Canada
CATEGORIES:naginata
ATTACH;FMTTYPE=image/jpeg:https://www.kendoforbundet.se/wp-content/uploads/2026/03/20230628_152032.jpg
END:VEVENT
BEGIN:VEVENT
DTSTART;VALUE=DATE:20260821
DTEND;VALUE=DATE:20260824
DTSTAMP:20260425T161254
CREATED:20260217T090659Z
LAST-MODIFIED:20260402T081648Z
UID:11547-1787270400-1787529599@www.kendoforbundet.se
SUMMARY:Gasshuku Umeå
DESCRIPTION:Kendoläger i Umeå. Även gradering 1-3 dan planeras. Mer info kan komma senare. \n\n\nDeltagande senseier: \n\nHeini Korhonen 7 dan Renshi\, Ki-ken-tai-icchi\, Helsinki\nAkseli Korhonen 7 dan Renshi\, Ki-ken-tai-icchi\, Helsinki\nMika Kankainen\, 6 dan Renshi\, Hokufuu\, Oulu\nJosef Segerstedt 6 dan\, Shimbukan\, Skellefteå
URL:https://www.kendoforbundet.se/event/gasshuku-umea-2026/
CATEGORIES:dan-gradering,kendo
ATTACH;FMTTYPE=image/jpeg:https://www.kendoforbundet.se/wp-content/uploads/2024/12/DSC_5200.jpg
ORGANIZER;CN="IKSU kendo":MAILTO:info@iksukendo.se
END:VEVENT
BEGIN:VEVENT
DTSTART;VALUE=DATE:20260925
DTEND;VALUE=DATE:20260928
DTSTAMP:20260425T161254
CREATED:20260220T093233Z
LAST-MODIFIED:20260220T093233Z
UID:11562-1790294400-1790553599@www.kendoforbundet.se
SUMMARY:24th EJC (jodo-EM)
DESCRIPTION:
URL:https://www.kendoforbundet.se/event/24th-ejc-jodo-em/
LOCATION:SALLE Omnisports de Bourran\, Rue Léo Lagrange\, Mérignac\, 33700\, France
CATEGORIES:dan-gradering,jodo,Mästerskap och förbundsseminarier
ATTACH;FMTTYPE=image/png:https://www.kendoforbundet.se/wp-content/uploads/2022/09/jo-socialmedia1-edited.png
END:VEVENT
BEGIN:VEVENT
DTSTART;VALUE=DATE:20261106
DTEND;VALUE=DATE:20261109
DTSTAMP:20260425T161254
CREATED:20260221T215404Z
LAST-MODIFIED:20260221T215404Z
UID:11571-1793923200-1794182399@www.kendoforbundet.se
SUMMARY:33rd EIC (iaido-EM)
DESCRIPTION:
URL:https://www.kendoforbundet.se/event/33rd-eic-iaido-em/
LOCATION:Sportschule Oberhaching\, Im Loh\, Oberhaching\, 82041\, Tyskland
CATEGORIES:dan-gradering,iaido,Mästerskap och förbundsseminarier
ATTACH;FMTTYPE=image/jpeg:https://www.kendoforbundet.se/wp-content/uploads/2022/03/DSC_3883-scaled-e1653398178207.jpg
END:VEVENT
BEGIN:VEVENT
DTSTART;VALUE=DATE:20270527
DTEND;VALUE=DATE:20270531
DTSTAMP:20260425T161254
CREATED:20260221T215035Z
LAST-MODIFIED:20260221T215035Z
UID:11568-1811376000-1811721599@www.kendoforbundet.se
SUMMARY:20th WKC (kendo-VM)
DESCRIPTION:
URL:https://www.kendoforbundet.se/event/20th-wkc-kendo-vm/
CATEGORIES:kendo,Mästerskap och förbundsseminarier
ATTACH;FMTTYPE=image/jpeg:https://www.kendoforbundet.se/wp-content/uploads/2026/02/20wkc-tokyo.jpg
END:VEVENT
BEGIN:VEVENT
DTSTART;VALUE=DATE:20270909
DTEND;VALUE=DATE:20270914
DTSTAMP:20260425T161254
CREATED:20260220T093555Z
LAST-MODIFIED:20260220T093555Z
UID:11565-1820448000-1820879999@www.kendoforbundet.se
SUMMARY:25th EJC (jodo-EM)
DESCRIPTION:
URL:https://www.kendoforbundet.se/event/25th-ejc-jodo-em/
LOCATION:Topsport Centrum Papendal\, Papendaallaan 9\, Arnhem\, 6816\, Netherlands
CATEGORIES:dan-gradering,jodo,Mästerskap och förbundsseminarier
ATTACH;FMTTYPE=image/png:https://www.kendoforbundet.se/wp-content/uploads/2022/09/jo-socialmedia1-edited.png
END:VEVENT
BEGIN:VEVENT
DTSTART;VALUE=DATE:20271008
DTEND;VALUE=DATE:20271011
DTSTAMP:20260425T161254
CREATED:20260221T215732Z
LAST-MODIFIED:20260221T215732Z
UID:11573-1822953600-1823212799@www.kendoforbundet.se
SUMMARY:34th EIC (iaido-EM)
DESCRIPTION:
URL:https://www.kendoforbundet.se/event/34th-eic-iaido-em/
LOCATION:Sports Hall Toto\, Hohmattstrasse\, Magglingen\, 2532\, Schweiz
CATEGORIES:dan-gradering,iaido,Mästerskap och förbundsseminarier
ATTACH;FMTTYPE=image/jpeg:https://www.kendoforbundet.se/wp-content/uploads/2023/02/11289531_10153363594091983_8033551768048235732_o-e1676550753775.jpg
END:VEVENT
BEGIN:VEVENT
DTSTART;VALUE=DATE:20280408
DTEND;VALUE=DATE:20280409
DTSTAMP:20260425T161254
CREATED:20260419T122255Z
LAST-MODIFIED:20260419T122255Z
UID:11704-1838764800-1838851199@www.kendoforbundet.se
SUMMARY:Årsstämmor 2028
DESCRIPTION:Kendoförbundets och SB&Ks årsstämmor 2028.
URL:https://www.kendoforbundet.se/event/arsstammor-2028/
CATEGORIES:årsstämmor
ATTACH;FMTTYPE=image/jpeg:https://www.kendoforbundet.se/wp-content/uploads/2022/08/ordfklubba-e1660731519104.jpg
END:VEVENT
BEGIN:VEVENT
DTSTART;VALUE=DATE:20281118
DTEND;VALUE=DATE:20281120
DTSTAMP:20260425T161254
CREATED:20260310T123929Z
LAST-MODIFIED:20260310T123929Z
UID:11596-1858118400-1858291199@www.kendoforbundet.se
SUMMARY:5th World Kyudo Taikai
DESCRIPTION:
URL:https://www.kendoforbundet.se/event/5th-world-kyudo-taikai/
CATEGORIES:kyudo,Mästerskap och förbundsseminarier
ATTACH;FMTTYPE=image/jpeg:https://www.kendoforbundet.se/wp-content/uploads/2022/08/DSC_9416-scaled-1-e1659625537427.jpg
END:VEVENT
END:VCALENDAR